BEGIN:VCALENDAR
VERSION:2.0
PRODID:icalendar-ruby
CALSCALE:GREGORIAN
METHOD:PUBLISH
BEGIN:VEVENT
DTSTAMP:20260422T110521Z
UID:204-1757008@era.church
DTSTART:20260614T193000Z
DTEND:20260614T210000Z
CLASS:PUBLIC
CREATED:20260421T154728
DESCRIPTION:Confirmation is a sacrament "where people who have been baptize
 d are released into ministry through the laying on of hands by the Bishop.
 " - To Be A Christian\, An Anglican Catechism  It is often referred to as
  'lay ordination'\, and is a beautiful opportunity to receive the laying o
 n of hands and prayer that the Holy Spirit would fill and empower you in a
  special way as you seek to walk out your calling as a part of Christ's Ch
 urch.\nThis class is offered in preparation for confirmation at Emmaus Roa
 d Anglican Church.  Bishop Mike will be with us for a Confirmation Servic
 e on Sunday\, June 28!\nIn the class\, we will explore questions like:\n\n
 What is confirmation? \nWho is confirmation for? \nWhy might I want to c
 onsider this sacrament?\n\nIf you want to be confirmed\, or you just want 
 to learn more about what Confirmation is\, this class is for you!  
LAST-MODIFIED:20260421T154728
LOCATION:22930 48 Ave - Langley Christian School - Elementary Campus Langle
 y
SUMMARY:Confirmation Class
URL;VALUE=URI:https://era.church/events/confirmation-class--204/2026-06-14
ATTACH;FILENAME=1.png;FMTTYPE=image/png:https://dq5pwpg1q8ru0.cloudfront.ne
 t/2024/07/29/19/19/44/8946bea7-dd19-48fd-86b9-8d270066141e/1.png
END:VEVENT
END:VCALENDAR
