BEGIN:VCALENDAR
VERSION:2.0
PRODID:icalendar-ruby
CALSCALE:GREGORIAN
METHOD:PUBLISH
BEGIN:VEVENT
DTSTAMP:20260421T083655Z
UID:256-1715505@era.church
DTSTART:20260530T200000Z
DTEND:20260531T000000Z
CLASS:PUBLIC
CREATED:20260413T142327
DESCRIPTION:
LAST-MODIFIED:20260413T142327
LOCATION:Langley & Trinity Western University 
SUMMARY:LOVE LANGLEY
URL;VALUE=URI:https://era.church/events/love-langley/2026-05-30
ATTACH;FILENAME=Love-Langley-Web-Graphic.png;FMTTYPE=image/png:https://dq5p
 wpg1q8ru0.cloudfront.net/2026/04/13/21/23/27/d586a197-ede8-4829-acb2-a5ba3
 0f8c328/Love-Langley-Web-Graphic.png
END:VEVENT
END:VCALENDAR
